Workbook

Sheet 총계
A1: 이룸청소년도서관 이용통계
A2: 2024. 12. 1. ~ 12. 31.
A4: ▣ 이용자 통계
I5: [단위 : 명]
A6: 일자별 | B6: 총계 | C6: 자료실 | F6: 보드게임실 | J6: 스마트도서관
C7: 대출자 | D7: 열람자 | E7: 소계 | F7: 예약자 | G7: 현장이용자 | I7: 소계 | J7: 대출자
A8: 12월 통계 | B8: =SUM(E8+I8) -> 1183 | C8: =SUM(일반자료실!G49) -> 124 | D8: =SUM(일반자료실!K49) -> 855 | E8: =SUM(C8:D8) -> 979 | F8: =SUM(보드게임실!F33) -> 34 | G8: =SUM(보드게임실!E47) -> 170 | I8: =SUM(F8:H8) -> 204 | J8: 2
A9: 2024년계 | B9: =SUM(E9+I9) -> 16092 | C9: =SUM(일반자료실!G50) -> 1613 | D9: =SUM(일반자료실!K50) -> 11558 | E9: =SUM(일반자료실!B50) -> 13171 | F9: =SUM(보드게임실!C48) -> 352 | G9: =SUM(보드게임실!E48) -> 2569 | I9: =SUM(보드게임실!B48) -> 2921 | J9: =SUM(일반자료실!F50) -> 69
A10: ▣ 회원가입 통계
I11: [단위 : 명]
A12: 일자별 | B12: 총계 | C12: 일반 | E12: 청소년 | G12: 아동 | I12: 비고
A13: 12월 합계 | B13: =SUM(C13:H13) -> 7 | C13: 6 | E13: 0 | G13: 1 | I13: ※반입회원 포함
A14: 2024년계 | B14: 111 | C14: 78 | E14: 12 | G14: 21
A16: ▣ 대출자료통계(전체)
I17: [단위 : 권]
A18: 일자별 | B18: 총계 | C18: 자료실 | H18: 스마트도서관 | I18: 비고
C19: 일반 | E19: 청소년 | G19: 아동 | H19: 일반
A20: 12월 합계 | B20: =SUM(C20:H20) -> 354 | C20: =SUM(일반자료실!C66) -> 253 | E20: =SUM(일반자료실!D66) -> 53 | G20: =SUM(일반자료실!E66) -> 45 | H20: =SUM(일반자료실!F66) -> 3
A21: 2024년계 | B21: =SUM(일반자료실!B67) -> 4440 | C21: =SUM(일반자료실!C67) -> 3395 | E21: =SUM(일반자료실!D67) -> 310 | G21: =SUM(일반자료실!E67) -> 663 | H21: =SUM(일반자료실!F67) -> 86

Sheet 일반자료실
A1: 이룸청소년도서관 자료실 통계보고
A2: 2024. 12. 1. ~ 12. 31.
A4: 주 요 업무내용 | B4: ○ 도서 대출/반납, 통합회원증 발급
B5: ○ 정기간행물 등록 및 관리
B6: ○ 보드게임실 관리 / 프로그램 운영
A7: ▣ 일별 이용자 현황
A8: 일자별 | B8: 총 계 | C8: 관외 대출자 | H8: 열람자 | L8: 비고
C9: 일 반 | D9: 청소년 | E9: 아동 | F9: 스마트도서관 | G9: 소계 | H9: 일반 | I9: 청소년 | J9: 아동 | K9: 소계
A10: 45627 | B10: =AVERAGE(G10+K10) -> 39 | C10: 6 | D10: 0 | E10: 1 | F10: 0 | G10: =SUM(C10:F10) -> 7 | H10: 14 | I10: 8 | J10: 10 | K10: =SUM(H10:J10) -> 32
A11: 45630 | B11: 46 | C11: 1 | D11: 0 | E11: 0 | F11: 0 | G11: =SUM(C11:F11) -> 1 | H11: 28 | I11: 7 | J11: 9 | K11: =SUM(H11:J11) -> 44 | L11: 미추홀 1권(일반)
A12: 45631 | B12: =AVERAGE(G12+K12) -> 51 | C12: 6 | D12: 0 | E12: 0 | F12: 0 | G12: =SUM(C12:F12) -> 6 | H12: 27 | I12: 10 | J12: 8 | K12: =SUM(H12:J12) -> 45
A13: 45632 | B13: =AVERAGE(G13+K13) -> 43 | C13: 5 | D13: 1 | E13: 0 | F13: 0 | G13: =SUM(C13:F13) -> 6 | H13: 18 | I13: 9 | J13: 10 | K13: =SUM(H13:J13) -> 37
A14: 45633 | B14: =AVERAGE(G14+K14) -> 68 | C14: 7 | D14: 0 | E14: 2 | F14: 0 | G14: =SUM(C14:F14) -> 9 | H14: 36 | I14: 11 | J14: 12 | K14: =SUM(H14:J14) -> 59
A15: 45634 | B15: =AVERAGE(G15+K15) -> 30 | C15: 4 | D15: 0 | E15: 0 | F15: 1 | G15: =SUM(C15:F15) -> 5 | H15: 11 | I15: 7 | J15: 7 | K15: =SUM(H15:J15) -> 25
A16: 45636 | B16: =AVERAGE(G16+K16) -> 49 | C16: 6 | D16: 1 | E16: 0 | F16: 0 | G16: =SUM(C16:F16) -> 7 | H16: 24 | I16: 8 | J16: 10 | K16: =SUM(H16:J16) -> 42
A17: 45637 | B17: =AVERAGE(G17+K17) -> 41 | C17: 5 | D17: 1 | E17: 0 | F17: 0 | G17: =SUM(C17:F17) -> 6 | H17: 19 | I17: 7 | J17: 9 | K17: =SUM(H17:J17) -> 35
A18: 45638 | B18: =AVERAGE(G18+K18) -> 46 | C18: 1 | D18: 0 | E18: 0 | F18: 0 | G18: =SUM(C18:F18) -> 1 | H18: 31 | I18: 6 | J18: 8 | K18: =SUM(H18:J18) -> 45
A19: 45639 | B19: =AVERAGE(G19+K19) -> 41 | C19: 4 | D19: 0 | E19: 0 | F19: 0 | G19: =SUM(C19:F19) -> 4 | H19: 21 | I19: 8 | J19: 8 | K19: =SUM(H19:J19) -> 37
A20: 45640 | B20: =AVERAGE(G20+K20) -> 62 | C20: 6 | D20: 0 | E20: 2 | F20: 0 | G20: =SUM(C20:F20) -> 8 | H20: 27 | I20: 12 | J20: 15 | K20: =SUM(H20:J20) -> 54
A21: 45641 | B21: =AVERAGE(G21+K21) -> 28 | C21: 3 | D21: 0 | E21: 0 | F21: 0 | G21: =SUM(C21:F21) -> 3 | H21: 10 | I21: 8 | J21: 7 | K21: =SUM(H21:J21) -> 25
A22: 45643 | B22: =AVERAGE(G22+K22) -> 57 | C22: 13 | D22: 0 | E22: 0 | F22: 0 | G22: =SUM(C22:F22) -> 13 | H22: 23 | I22: 11 | J22: 10 | K22: =SUM(H22:J22) -> 44
A23: 45644 | B23: =AVERAGE(G23+K23) -> 28 | C23: 0 | D23: 1 | E23: 0 | F23: 0 | G23: =SUM(C23:F23) -> 1 | H23: 12 | I23: 7 | J23: 8 | K23: =SUM(H23:J23) -> 27
... A27: 45648 | B27: =AVERAGE(G27+K27) -> 13 | C27: 0 | D27: 0 | E27: 1 | F27: 0 | G27: =SUM(C27:F27) -> 1 | H27: 5 | I27: 2 | J27: 5 | K27: =SUM(H27:J27) -> 12
A28: 45650 | B28: 26 | C28: 4 | D28: 0 | E28: 0 | F28: 0 | G28: =SUM(C28:F28) -> 4 | H28: 7 | I28: 6 | J28: 8 | K28: =SUM(H28:J28) -> 21 | L28: 미추홀 1권(일반)
A29: 45652 | B29: =AVERAGE(G29+K29) -> 42 | C29: 4 | D29: 0 | E29: 0 | F29: 0 | G29: =SUM(C29:F29) -> 4 | H29: 20 | I29: 8 | J29: 10 | K29: =SUM(H29:J29) -> 38
A30: 45653 | B30: =AVERAGE(G30+K30) -> 41 | C30: 8 | D30: 0 | E30: 0 | F30: 0 | G30: =SUM(C30:F30) -> 8 | H30: 19 | I30: 7 | J30: 7 | K30: =SUM(H30:J30) -> 33
A31: 45654 | B31: =AVERAGE(G31+K31) -> 16 | C31: 1 | D31: 0 | E31: 0 | F31: 0 | G31: =SUM(C31:F31) -> 1 | H31: 4 | I31: 5 | J31: 6 | K31: =SUM(H31:J31) -> 15
A32: 45655 | B32: =AVERAGE(G32+K32) -> 33 | C32: 2 | D32: 0 | E32: 1 | F32: 1 | G32: =SUM(C32:F32) -> 4 | H32: 13 | I32: 7 | J32: 9 | K32: =SUM(H32:J32) -> 29
A33: 45657 | B33: =AVERAGE(G33+K33) -> 82 | C33: 5 | D33: 3 | E33: 1 | F33: 0 | G33: =SUM(C33:F33) -> 9 | H33: 43 | I33: 19 | J33: 11 | K33: =SUM(H33:J33) -> 73
A34: 합 계 | B34: =SUM(G34+K34) -> 979 | C34: =SUM(C10:C33) -> 101 | D34: =SUM(D10:D33) -> 12 | E34: =SUM(E10:E33) -> 9 | F34: =SUM(F10:F33) -> 2 | G34: =SUM(G10:G33) -> 124 | H34: =SUM(H10:H33) -> 448 | I34: =SUM(I10:I33) -> 196 | J34: =SUM(J10:J33) -> 211 | K34: =SUM(K10:K33) -> 855
A35: ▣ 월별 이용자 현황
A36: 월별 | B36: 총계 (명) | C36: 관외 대출자 | H36: 열람자 | L36: 비고
C37: 일반 | D37: 청소년 | E37: 아동 | F37: 스마트도서관 | G37: 소계 | H37: 일반 | I37: 청소년 | J37: 아동 | K37: 소계
A38: 1월 | B38: =SUM(G38+K38) -> 898 | C38: 58 | D38: 8 | E38: 7 | F38: 8 | G38: =SUM(C38:F38) -> 81 | H38: 479 | I38: 214 | J38: 124 | K38: =SUM(H38:J38) -> 817 | L38: ※스마트도서관 포함
A39: 2월 | B39: =SUM(G39,K39) -> 895 | C39: 81 | D39: 8 | E39: 12 | F39: 3 | G39: =SUM(C39:F39) -> 104 | H39: 536 | I39: 111 | J39: 144 | K39: =SUM(H39:J39) -> 791 | L39: ※스마트도서관 포함
A40: 3월 | B40: =SUM(G40+K40) -> 872 | C40: 102 | D40: 5 | E40: 9 | F40: 2 | G40: =SUM(C40:F40) -> 118 | H40: 476 | I40: 139 | J40: 139 | K40: =SUM(H40:J40) -> 754 | L40: ※스마트도서관 포함
A41: 4월 | B41: =SUM(G41+K41) -> 1135 | C41: 104 | D41: 8 | E41: 15 | F41: 10 | G41: =SUM(C41:F41) -> 137 | H41: 699 | I41: 137 | J41: 162 | K41: 998 | L41: ※스마트도서관 포함
A42: 5월 | B42: =SUM(G42+K42) -> 1113 | C42: 102 | D42: 8 | E42: 10 | F42: 10 | G42: =SUM(C42:F42) -> 130 | H42: 670 | I42: 141 | J42: 172 | K42: =SUM(H42:J42) -> 983 | L42: ※스마트도서관 포함
A43: 6월 | B43: =SUM(G43+K43) -> 1057 | C43: 95 | D43: 8 | E43: 16 | F43: 5 | G43: 124 | H43: 582 | I43: 175 | J43: 176 | K43: 933 | L43: ※스마트도서관 포함
A44: 7월 | B44: =SUM(G44+K44) -> 1296 | C44: 116 | D44: 15 | E44: 27 | F44: 6 | G44: 164 | H44: 736 | I44: 196 | J44: 200 | K44: 1132 | L44: ※스마트도서관 포함
...

Sheet 보드게임실
A1: 이룸청소년도서관 보드게임실 통계보고
A2: 2024. 12. 1. ~ 12. 31.
A5: 주 요 업무내용 | B5: ○ 보드게임실 관리 운영
A6: ▣ 일별 이용자 현황
A7: 일자별 | B7: 총 계 | C7: 예약자 | G7: 현장이용자 | K7: 비고
C8: 일 반 | D8: 청소년 | E8: 아동 | F8: 소계 | G8: 일반 | H8: 청소년 | I8: 아동 | J8: 소계
A9: 45627 | B9: =SUM(F9+J9) -> 21 | C9: 1 | D9: 0 | E9: 4 | F9: =SUM(C9:E9) -> 5 | G9: 3 | H9: 1 | I9: 12 | J9: =SUM(G9:I9) -> 16
A10: 45630 | B10: =SUM(F10+J10) -> 7 | C10: 4 | D10: 0 | E10: 0 | F10: =SUM(C10:E10) -> 4 | G10: 3 | H10: 0 | I10: 0 | J10: =SUM(G10:I10) -> 3
A11: 45631 | B11: =SUM(F11+J11) -> 4 | C11: 0 | D11: 0 | E11: 0 | F11: =SUM(C11:E11) -> 0 | G11: 0 | H11: 4 | I11: 0 | J11: =SUM(G11:I11) -> 4
A12: 45632 | B12: =SUM(F12+J12) -> 0 | C12: 0 | D12: 0 | E12: 0 | F12: =SUM(C12:E12) -> 0 | G12: 0 | H12: 0 | I12: 0 | J12: =SUM(G12:I12) -> 0
A13: 45633 | B13: =SUM(F13+J13) -> 19 | C13: 3 | D13: 7 | E13: 2 | F13: =SUM(C13:E13) -> 12 | G13: 2 | H13: 2 | I13: 3 | J13: =SUM(G13:I13) -> 7
A14: 45634 | B14: =SUM(F14+J14) -> 11 | C14: 0 | D14: 0 | E14: 0 | F14: =SUM(C14:E14) -> 0 | G14: 6 | H14: 1 | I14: 4 | J14: =SUM(G14:I14) -> 11
A15: 45636 | B15: =SUM(F15+J15) -> 0 | C15: 0 | D15: 0 | E15: 0 | F15: =SUM(C15:E15) -> 0 | G15: 0 | H15: 0 | I15: 0 | J15: =SUM(G15:I15) -> 0
A16: 45637 | B16: =SUM(F16+J16) -> 6 | C16: 0 | D16: 0 | E16: 0 | F16: =SUM(C16:E16) -> 0 | G16: 0 | H16: 0 | I16: 6 | J16: =SUM(G16:I16) -> 6
A17: 45638 | B17: =SUM(F17+J17) -> 2 | C17: 0 | D17: 0 | E17: 0 | F17: =SUM(C17:E17) -> 0 | G17: 2 | H17: 0 | I17: 0 | J17: =SUM(G17:I17) -> 2
A18: 45639 | B18: =SUM(F18+J18) -> 5 | C18: 0 | D18: 0 | E18: 0 | F18: =SUM(C18:E18) -> 0 | G18: 4 | H18: 1 | I18: 0 | J18: =SUM(G18:I18) -> 5
A19: 45640 | B19: =SUM(F19+J19) -> 31 | C19: 0 | D19: 0 | E19: 0 | F19: =SUM(C19:E19) -> 0 | G19: 13 | H19: 2 | I19: 16 | J19: =SUM(G19:I19) -> 31
A20: 45641 | B20: =SUM(F20+J20) -> 4 | C20: 0 | D20: 0 | E20: 0 | F20: =SUM(C20:E20) -> 0 | G20: 0 | H20: 2 | I20: 2 | J20: =SUM(G20:I20) -> 4
... A32: 45657 | B32: =SUM(F32+J32) -> 12 | C32: 0 | D32: 0 | E32: 0 | F32: =SUM(C32:E32) -> 0 | G32: 0 | H32: 0 | I32: 12 | J32: =SUM(G32:I32) -> 12
A33: 월 계 | B33: =SUM(F33+J33) -> 204 | C33: =SUM(C9:C32) -> 18 | D33: =SUM(D9:D32) -> 7 | E33: =SUM(E9:E32) -> 9 | F33: =SUM(F9:F32) -> 34 | G33: =SUM(G9:G32) -> 55 | H33: =SUM(H9:H32) -> 21 | I33: =SUM(I9:I32) -> 94 | J33: =SUM(J9:J32) -> 170
A34: 월별 | B34: 총계(명) | C34: 보드게임실 이용 현황 | G34: 비고
C35: 예약자 | E35: 현장이용자
A36: 1월 | B36: =SUM(C36:F36) -> 147 | C36: 21 | E36: 126
A37: 2월 | B37: =SUM(C37:F37) -> 226 | C37: 35 | E37: 191
A38: 3월 | B38: =SUM(C38:F38) -> 183 | C38: 18 | E38: 165
A39: 4월 | B39: =SUM(C39:F39) -> 258 | C39: 31 | E39: 227
A40: 5월 | B40: =SUM(C40:F40) -> 253 | C40: 35 | E40: 218
A41: 6월 | B41: =SUM(C41:F41) -> 240 | C41: 39 | E41: 201
A42: 7월 | B42: 314 | C42: 38 | E42: 276
A43: 8월 | B43: =SUM(C43:F43) -> 411 | C43: 31 | E43: 380
A44: 9월 | B44: =SUM(C44:F44) -> 247 | C44: 28 | E44: 219
A45: 10월 | B45: =SUM(C45:F45) -> 217 | C45: 13 | E45: 204
A46: 11월 | B46: =SUM(C46:F46) -> 221 | C46: 29 | E46: 192
A47: 12월 | B47: =SUM(C47:F47) -> 204 | C47: 34 | E47: 170
A48: 2024년 총계 | B48: =SUM(B36:B47) -> 2921 | C48: =SUM(C36:D47) -> 352 | E48: =SUM(E36:F47) -> 2569
A49: 2023년 총계 | B49: 1467 | C49: 156 | E49: 1311

Sheet 야간_개방
A1: 이룸청소년도서관 연장개방 통계보고
A2: 2024. 12. 1. ~ 12. 31.
A4: 주 요 업무내용 | B4: ○ 도서 대출/반납, 통합회원증 발급
B5: ○ 정기간행물 등록 및 관리
B6: ○ 자료실, 보드게임실 야간연장개방(18:00~21:00)
A7: ▣ 월별 이용자 현황
A8: 월별 | B8: 대출권수 | C8: 이용자수 | D8: 비 고 | E8: 월별 | F8: 대출권수 | G8: 이용자수 | H8: 비 고
A9: 1월 | B9: - | C9: 117 | E9: 7월 | F9: 21 | G9: 349
A10: 2월 | B10: 15 | C10: 247 | E10: 8월 | F10: 30 | G10: 483 | H10: ※[야간]프로그램 이용자수 포함
A11: 3월 | B11: 7 | C11: 284 | D11: ※[야간]프로그램 이용자수 포함 | E11: 9월 | F11: 16 | G11: 234
A12: 4월 | B12: 8 | C12: 410 | D12: ※[야간]프로그램 이용자수 포함 | E12: 10월 | F12: 50 | G12: 247
A13: 5월 | B13: 19 | C13: 265 | D13: ※[야간]프로그램 이용자수 포함 | E13: 11월 | F13: 53 | G13: 396
A14: 6월 | B14: 14 | C14: 359 | D14: ※[야간]프로그램 이용자수 포함 | E14: 12월 | F14: 32 | G14: 319
A15: 2024년 총계 | F15: =SUM(B9:B14)+F9+F10+F11+F12+F13+F14 -> 265 | G15: =SUM(C9:C14)+G9+G10+G11+G12+G13+G14 -> 3710
