Workbook

Sheet 총계
A1: 이룸청소년도서관 이용통계
A2: 2025. 3. 1.(토) ~ 3. 31.(월)
A4: ▣ 이용자 통계
I5: [단위 : 명]
A6: 일자별 | B6: 총계 | C6: 자료실 | F6: 보드게임실 | J6: 스마트도서관
C7: 대출자 | D7: 열람자 | E7: 소계 | F7: 예약자 | G7: 현장이용자 | I7: 소계 | J7: 대출자
A8: 3월 통계 | B8: =SUM(E8+I8) -> 1313 | C8: =SUM(일반자료실!G41) -> 171 | D8: =SUM(일반자료실!K41) -> 943 | E8: =SUM(C8:D8) -> 1114 | F8: =SUM(보드게임실!C39) -> 40 | G8: =SUM(보드게임실!E38) -> 289 | I8: =SUM(보드게임실!E39) -> 199 | J8: 3
A9: 2025년계 | B9: =SUM(E9+I9) -> 4386 | C9: =SUM(일반자료실!G51) -> 515 | D9: =SUM(일반자료실!K51) -> 3027 | E9: =SUM(C9+D9) -> 3542 | F9: =SUM(보드게임실!C49) -> 179 | G9: =SUM(보드게임실!E49) -> 665 | I9: =SUM(보드게임실!B49) -> 844 | J9: =SUM(일반자료실!F51) -> 14
A10: ▣ 회원가입 통계
I11: [단위 : 명]
A12: 일자별 | B12: 총계 | C12: 일반 | E12: 청소년 | G12: 아동 | I12: 비고
A13: 3월 통계 | B13: =SUM(C13:H13) -> 15 | C13: 11 | E13: 2 | G13: 2 | I13: ※반입회원 포함
A14: 2025년계 | B14: =SUM(C14:H14) -> 44 | C14: 33 | E14: 5 | G14: 6
A16: ▣ 대출자료통계(전체)
I17: [단위 : 권]
A18: 일자별 | B18: 총계 | C18: 자료실 | H18: 스마트도서관 | I18: 비고
C19: 일반 | E19: 청소년 | G19: 아동 | H19: 일반/아동
A20: 3월 통계 | B20: =SUM(C20:H20) -> 442 | C20: =SUM(일반자료실!C58) -> 326 | E20: =SUM(일반자료실!D58) -> 34 | G20: =SUM(일반자료실!E58) -> 79 | H20: 3 | I20: ※스마트도서관 포함
A21: 2025년계 | B21: =SUM(일반자료실!B68) -> 1423 | C21: =SUM(일반자료실!C68) -> 1040 | E21: =SUM(일반자료실!D68) -> 105 | G21: =SUM(일반자료실!E68) -> 258 | H21: =SUM(일반자료실!F68) -> 20

Sheet 일반자료실
A1: 이룸청소년도서관 자료실 통계보고
A2: 2025. 3. 1.(토) ~ 3. 31.(월)
A4: 주 요 업무내용 | B4: ○ 도서 대출/반납, 통합회원증 발급
B5: ○ 정기간행물 등록 및 관리
B6: ○ 보드게임실 관리 / 프로그램 운영
A7: ▣ 일별 이용자 현황
A8: 일자별 | B8: 총 계 | C8: 관외 대출자 | H8: 열람자 | L8: 비고
C9: 일 반 | D9: 청소년 | E9: 아동 | F9: 스마트도서관 | G9: 소계 | H9: 일반 | I9: 청소년 | J9: 아동 | K9: 소계
A10: 45718 | B10: =AVERAGE(G10+K10) -> 36 | C10: 1 | D10: 2 | E10: 1 | F10: 0 | G10: =SUM(C10:F10) -> 4 | H10: 16 | I10: 12 | J10: 4 | K10: =SUM(H10:J10) -> 32
A11: 45720 | B11: =AVERAGE(G11+K11) -> 49 | C11: 5 | D11: 0 | E11: 0 | F11: 0 | G11: =SUM(C11:F11) -> 5 | H11: 22 | I11: 15 | J11: 7 | K11: =SUM(H11:J11) -> 44
A12: 45721 | B12: =AVERAGE(G12+K12) -> 39 | C12: 1 | D12: 2 | E12: 0 | F12: 0 | G12: =SUM(C12:F12) -> 3 | H12: 18 | I12: 12 | J12: 6 | K12: =SUM(H12:J12) -> 36
A13: 45722 | B13: =AVERAGE(G13+K13) -> 50 | C13: 8 | D13: 0 | E13: 2 | F13: 0 | G13: =SUM(C13:F13) -> 10 | H13: 20 | I13: 13 | J13: 7 | K13: =SUM(H13:J13) -> 40
A14: 45723 | B14: =AVERAGE(G14+K14) -> 47 | C14: 9 | D14: 1 | E14: 1 | F14: 0 | G14: =SUM(C14:F14) -> 11 | H14: 22 | I14: 11 | J14: 3 | K14: =SUM(H14:J14) -> 36
A15: 45724 | B15: =AVERAGE(G15+K15) -> 57 | C15: 7 | D15: 1 | E15: 5 | F15: 1 | G15: =SUM(C15:F15) -> 14 | H15: 21 | I15: 15 | J15: 7 | K15: =SUM(H15:J15) -> 43
A16: 45725 | B16: =AVERAGE(G16+K16) -> 36 | C16: 2 | D16: 0 | E16: 1 | F16: 0 | G16: =SUM(C16:F16) -> 3 | H16: 18 | I16: 12 | J16: 3 | K16: =SUM(H16:J16) -> 33
A17: 45727 | B17: =AVERAGE(G17+K17) -> 36 | C17: 4 | D17: 1 | E17: 0 | F17: 0 | G17: =SUM(C17:F17) -> 5 | H17: 15 | I17: 12 | J17: 4 | K17: =SUM(H17:J17) -> 31
A18: 45728 | B18: =AVERAGE(G18+K18) -> 40 | C18: 5 | D18: 1 | E18: 0 | F18: 0 | G18: =SUM(C18:F18) -> 6 | H18: 17 | I18: 14 | J18: 3 | K18: =SUM(H18:J18) -> 34
A19: 45729 | B19: =AVERAGE(G19+K19) -> 52 | C19: 7 | D19: 0 | E19: 1 | F19: 0 | G19: =SUM(C19:F19) -> 8 | H19: 22 | I19: 16 | J19: 6 | K19: =SUM(H19:J19) -> 44
A20: 45730 | B20: =AVERAGE(G20+K20) -> 43 | C20: 2 | D20: 1 | E20: 1 | F20: 0 | G20: =SUM(C20:F20) -> 4 | H20: 19 | I20: 12 | J20: 8 | K20: =SUM(H20:J20) -> 39
A21: 45731 | B21: =AVERAGE(G21+K21) -> 64 | C21: 7 | D21: 0 | E21: 4 | F21: 0 | G21: =SUM(C21:F21) -> 11 | H21: 26 | I21: 18 | J21: 9 | K21: =SUM(H21:J21) -> 53
... A34: 45746 | B34: =AVERAGE(G34+K34) -> 36 | C34: 4 | D34: 1 | E34: 0 | F34: 0 | G34: =SUM(C34:F34) -> 5 | H34: 15 | I34: 12 | J34: 4 | K34: =SUM(H34:J34) -> 31
A35: 합 계 | B35: =SUM(B10:B34) -> 1114 | C35: =SUM(C10:C34) -> 128 | D35: =SUM(D10:D34) -> 16 | E35: =SUM(E10:E34) -> 24 | F35: =SUM(F10:F34) -> 3 | G35: =SUM(G10:G34) -> 171 | H35: =SUM(H10:H34) -> 470 | I35: =SUM(I10:I34) -> 331 | ... K35: =SUM(K10:K34) -> 943
A36: ▣ 월별 이용자 현황
A37: 월별 | B37: 총계 (명) | C37: 관외 대출자 | H37: 열람자 | L37: 비고
C38: 일반 | D38: 청소년 | E38: 아동 | F38: 스마트도서관 | G38: 소계 | H38: 일반 | I38: 청소년 | J38: 아동 | K38: 소계
A39: 1월 | B39: =SUM(G39+K39) -> 1150 | C39: 125 | D39: 11 | E39: 23 | F39: 9 | G39: =SUM(C39:F39) -> 168 | H39: 485 | I39: 299 | J39: 198 | K39: =SUM(H39:J39) -> 982 | L39: ※스마트도서관 포함
A40: 2월 | B40: 1278 | C40: 134 | D40: 14 | E40: 26 | F40: 2 | G40: 176 | H40: 547 | I40: 353 | J40: 202 | K40: 1102 | L40: ※스마트도서관 포함
A41: 3월 | B41: =SUM(G41+K41) -> 1114 | C41: 128 | D41: 16 | E41: 24 | F41: 3 | G41: =SUM(C41:F41) -> 171 | H41: 470 | I41: 331 | J41: 142 | K41: =SUM(H41:J41) -> 943 | L41: ※스마트도서관 포함
A42: 4월
A43: 5월
A44: 6월
A45: 7월
A46: 8월
A47: 9월
A48: 10월
A49: 11월
A50: 12월
A51: 2025년 총계 | B51: =SUM(B39:B50) -> 3542 | C51: =SUM(C39:C50) -> 387 | D51: =SUM(D39:D50) -> 41 | E51: =SUM(E39:E50) -> 73 | F51: =SUM(F39:F50) -> 14 | G51: =SUM(G39:G50) -> 515 | H51: =SUM(H39:H50) -> 1502 | I51: =SUM(I39:I50) -> 983 | ... K51: =SUM(K39:K50) -> 3027
A52: 2024년 총계 | B52: =SUM(G52+K52) -> 13171 | C52: 1237 | D52: 124 | E52: 183 | F52: 69 | G52: =SUM(C52:F52) -> 1613 | H52: 6942 | I52: 2295 | J52: 2321 | K52: =SUM(H52:J52) -> 11558
A53: ▣ 월별 대출자료 현황(일반자료실)
...

Sheet 보드게임실
A1: 이룸청소년도서관 보드게임실 통계보고
A2: 2025. 3. 1.(토) ~ 3. 31.(월)
A5: 주 요 업무내용 | B5: ○ 보드게임실 관리 운영
A6: ▣ 일별 이용자 현황
A7: 일자별 | B7: 총 계 | C7: 예약자 | G7: 현장이용자 | K7: 비고
C8: 일 반 | D8: 청소년 | E8: 아동 | F8: 소계 | G8: 일반 | H8: 청소년 | I8: 아동 | J8: 소계
A9: 45718 | B9: =SUM(F9+J9) -> 16 | C9: 2 | D9: 0 | E9: 2 | F9: =SUM(C9:E9) -> 4 | G9: 5 | H9: 4 | I9: 3 | J9: =SUM(G9:I9) -> 12
A10: 45720 | B10: =SUM(F10+J10) -> 13 | C10: 0 | D10: 0 | E10: 0 | F10: =SUM(C10:E10) -> 0 | G10: 2 | H10: 6 | I10: 5 | J10: =SUM(G10:I10) -> 13
A11: 45721 | B11: =SUM(F11+J11) -> 14 | C11: 0 | D11: 0 | E11: 0 | F11: =SUM(C11:E11) -> 0 | G11: 6 | H11: 0 | I11: 8 | J11: =SUM(G11:I11) -> 14
A12: 45722 | B12: =SUM(F12+J12) -> 6 | C12: 0 | D12: 0 | E12: 0 | F12: =SUM(C12:E12) -> 0 | G12: 4 | H12: 0 | I12: 2 | J12: =SUM(G12:I12) -> 6
A13: 45723 | B13: =SUM(F13+J13) -> 3 | C13: 0 | D13: 0 | E13: 0 | F13: =SUM(C13:E13) -> 0 | G13: 2 | H13: 0 | I13: 1 | J13: =SUM(G13:I13) -> 3
A14: 45724 | B14: =SUM(F14+J14) -> 25 | C14: 2 | D14: 0 | E14: 2 | F14: =SUM(C14:E14) -> 4 | G14: 10 | H14: 0 | I14: 11 | J14: =SUM(G14:I14) -> 21
A15: 45725 | B15: =SUM(F15+J15) -> 13 | C15: 0 | D15: 0 | E15: 0 | F15: =SUM(C15:E15) -> 0 | G15: 5 | H15: 4 | I15: 4 | J15: =SUM(G15:I15) -> 13
A16: 45727 | B16: =SUM(F16+J16) -> 0 | C16: 0 | D16: 0 | E16: 0 | F16: =SUM(C16:E16) -> 0 | G16: 0 | H16: 0 | I16: 0 | J16: =SUM(G16:I16) -> 0
A17: 45728 | B17: =SUM(F17+J17) -> 5 | C17: 0 | D17: 0 | E17: 0 | F17: =SUM(C17:E17) -> 0 | G17: 5 | H17: 0 | I17: 0 | J17: =SUM(G17:I17) -> 5
A18: 45729 | B18: =SUM(F18+J18) -> 0 | C18: 0 | D18: 0 | E18: 0 | F18: =SUM(C18:E18) -> 0 | G18: 0 | H18: 0 | I18: 0 | J18: =SUM(G18:I18) -> 0
A19: 45730 | B19: =SUM(F19+J19) -> 4 | C19: 0 | D19: 0 | E19: 0 | F19: =SUM(C19:E19) -> 0 | G19: 0 | H19: 0 | I19: 4 | J19: =SUM(G19:I19) -> 4
A20: 45731 | B20: =SUM(F20+J20) -> 42 | C20: 0 | D20: 0 | E20: 0 | F20: 0 | G20: 13 | H20: 7 | I20: 22 | J20: =SUM(G20:I20) -> 42
A21: 45732 | B21: =SUM(F21+J21) -> 14 | C21: 0 | D21: 0 | E21: 0 | F21: =SUM(C21:E21) -> 0 | G21: 2 | H21: 10 | I21: 2 | J21: =SUM(G21:I21) -> 14
A22: 45734 | B22: =SUM(F22+J22) -> 3 | C22: 0 | D22: 0 | E22: 0 | F22: =SUM(C22:E22) -> 0 | G22: 0 | H22: 3 | I22: 0 | J22: =SUM(G22:I22) -> 3
A23: 45735 | B23: =SUM(F23+J23) -> 0 | C23: 0 | D23: 0 | E23: 0 | F23: =SUM(C23:E23) -> 0 | G23: 0 | H23: 0 | I23: 0 | J23: =SUM(G23:I23) -> 0
A24: 45736 | B24: =SUM(F24+J24) -> 2 | C24: 0 | D24: 0 | E24: 0 | F24: =SUM(C24:E24) -> 0 | G24: 1 | H24: 0 | I24: 1 | J24: =SUM(G24:I24) -> 2
A25: 45737 | B25: =SUM(F25+J25) -> 0 | C25: 0 | D25: 0 | E25: 0 | F25: =SUM(C25:E25) -> 0 | G25: 0 | H25: 0 | I25: 0 | J25: =SUM(G25:I25) -> 0
A26: 45738 | B26: =SUM(F26+J26) -> 13 | C26: 4 | D26: 0 | E26: 4 | F26: =SUM(C26:E26) -> 8 | G26: 1 | H26: 2 | I26: 2 | J26: =SUM(G26:I26) -> 5
A27: 45739 | B27: =SUM(F27+J27) -> 22 | C27: 10 | D27: 0 | E27: 0 | F27: =SUM(C27:E27) -> 10 | G27: 2 | H27: 4 | I27: 6 | J27: =SUM(G27:I27) -> 12
A28: 45741 | B28: =SUM(F28+J28) -> 3 | C28: 0 | D28: 0 | E28: 0 | F28: =SUM(C28:E28) -> 0 | G28: 0 | H28: 0 | I28: 3 | J28: =SUM(G28:I28) -> 3
A29: 45742 | B29: =SUM(F29+J29) -> 2 | C29: 0 | D29: 0 | E29: 0 | F29: =SUM(C29:E29) -> 0 | G29: 2 | H29: 0 | I29: 0 | J29: =SUM(G29:I29) -> 2
A30: 45743 | B30: =SUM(F30+J30) -> 0 | C30: 0 | D30: 0 | E30: 0 | F30: =SUM(C30:E30) -> 0 | G30: 0 | H30: 0 | I30: 0 | J30: 0
A31: 45744 | B31: =SUM(F31+J31) -> 0 | C31: 0 | D31: 0 | E31: 0 | F31: =SUM(C31:E31) -> 0 | G31: 0 | H31: 0 | I31: 0 | J31: =SUM(G31:I31) -> 0
A32: 45745 | B32: =SUM(F32+J32) -> 21 | C32: 2 | D32: 0 | E32: 2 | F32: =SUM(C32:E32) -> 4 | G32: 3 | H32: 7 | I32: 7 | J32: =SUM(G32:I32) -> 17
A33: 45746 | B33: =SUM(F33+J33) -> 18 | C33: 5 | D33: 0 | E33: 5 | F33: =SUM(C33:E33) -> 10 | G33: 4 | H33: 0 | I33: 4 | J33: =SUM(G33:I33) -> 8
A34: 월 계 | B34: =SUM(F34+J34) -> 239 | C34: =SUM(C9:C33) -> 25 | D34: =SUM(D9:D33) -> 0 | E34: =SUM(E9:E33) -> 15 | F34: =SUM(F9:F33) -> 40 | G34: =SUM(G9:G33) -> 67 | H34: =SUM(H9:H33) -> 47 | I34: =SUM(I9:I33) -> 85 | J34: =SUM(J9:J33) -> 199
A35: 월별 | B35: 총계(명) | C35: 보드게임실 이용 현황 | G35: 비고
C36: 예약자 | E36: 현장이용자
A37: 1월 | B37: =SUM(C37:F37) -> 229 | C37: 52 | E37: 177
A38: 2월 | B38: 376 | C38: 87 | E38: 289
A39: 3월 | B39: =SUM(C39:F39) -> 239 | C39: 40 | E39: 199
A40: 4월 | B40: =SUM(C40:F40) -> 0
A41: 5월 | B41: =SUM(C41:F41) -> 0
A42: 6월 | B42: =SUM(C42:F42) -> 0
...

Sheet 야간_개방
A1: 이룸청소년도서관 연장개방 통계보고
A2: 2025. 3. 1.(토) ~ 3. 31.(월)
A4: 주 요 업무내용 | B4: ○ 도서 대출/반납, 통합회원증 발급
B5: ○ 정기간행물 등록 및 관리
B6: ○ 자료실, 보드게임실 야간연장개방(18:00~21:00)
A7: ▣ 월별 이용자 현황
A8: 월별 | B8: 대출권수 | C8: 이용자수 | D8: 비 고 | E8: 월별 | F8: 대출권수 | G8: 이용자수 | H8: 비 고
A9: 1월 | B9: 88 | C9: 310 | E9: 7월
A10: 2월 | B10: 46 | C10: 345 | E10: 8월
A11: 3월 | B11: 48 | C11: 354 | E11: 9월
A12: 4월 | E12: 10월
A13: 5월 | E13: 11월
A14: 6월 | E14: 12월
A15: 2025년 총계 | F15: =SUM(B9:B14)+F9+F10+F11+F12+F13+F14 -> 182 | G15: =SUM(C9:C14)+G9+G10+G11+G12+G13+G14 -> 1009
