Workbook

Sheet 총계
A1: 이룸청소년도서관 이용통계
A2: 2023. 11. 1 ~ 11. 30
A4: ▣ 이용자 통계
H5: [단위 : 명]
A6: 일자별 | B6: 총계 | C6: 일반자료실 | F6: 보드게임실
C7: 대출자 | D7: 열람자 | E7: 소계 | F7: 예약자 | G7: 현장이용자 | H7: 소계
A8: 11월 통계 | B8: =SUM(H8+E8) -> 1484 | C8: =SUM(일반자료실!F50) -> 63 | D8: =SUM(일반자료실!J50) -> 1327 | E8: =SUM(C8:D8) -> 1390 | F8: =SUM(보드게임실!C48) -> 0 | G8: =SUM(보드게임실!E48) -> 94 | H8: =SUM(F8:G8) -> 94
A9: 2023년계 | B9: =SUM(E9+H9) -> 16967 | C9: =SUM(일반자료실!F52) -> 770 | D9: =SUM(일반자료실!J52) -> 14998 | E9: =SUM(일반자료실!B52) -> 15768 | F9: =SUM(보드게임실!C50) -> 142 | G9: =SUM(보드게임실!E50) -> 1199 | H9: =SUM(보드게임실!E50) -> 1199
A10: ▣ 회원가입 통계
H11: [단위 : 명]
A12: 일자별 | B12: 총계 | C12: 일반 | E12: 청소년 | G12: 아동 | H12: 비고
A13: 11월 합계 | B13: =SUM(C13:G13) -> 1 | C13: 1 | E13: - | G13: -
A14: 2023년계 | B14: =SUM(C14:G14) -> 88 | C14: 60 | E14: 22 | G14: 6 | H14: ※반입회원수포함
A15: 2022년계 | B15: =SUM(C15:G15) -> 62 | C15: 48 | E15: 10 | G15: 4
A16: 총누계 | B16: =SUM(B14:B15) -> 150 | C16: =SUM(C14:D15) -> 108 | E16: =SUM(E14:F15) -> 32 | G16: =SUM(G14:G15) -> 10 | H16: 총등록회원수
A18: ▣ 대출자료통계(전체)
H19: [단위 : 권]
A20: 일자별 | B20: 총계 | C20: 일반 | E20: 청소년 | G20: 아동 | H20: 비고
A21: 11월 합계 | B21: =SUM(C21:G21) -> 190 | C21: =SUM(일반자료실!C67) -> 170 | E21: =SUM(일반자료실!D67) -> 10 | G21: =SUM(일반자료실!E67) -> 10
A22: 2023년계 | B22: =SUM(일반자료실!B69) -> 1954 | C22: =SUM(일반자료실!C69) -> 1704 | E22: =SUM(일반자료실!D69) -> 156 | G22: =SUM(일반자료실!E69) -> 94

Sheet 일반자료실
A1: 이룸청소년도서관 자료실 통계보고
A2: 2023. 11. 1 ~ 11. 30
A4: 주 요 업무내용 | B4: ○ 도서 대출/반납, 통합회원증 발급
B5: ○ 정기간행물 등록 및 관리
B6: ○ 보드게임실 관리 / 프로그램 운영
A7: ▣ 일별 이용자 현황
A8: 일자별 | B8: 총 계 | C8: 관외 대출자 | G8: 열람자 | K8: 비고
C9: 일 반 | D9: 청소년 | E9: 아동 | F9: 소계 | G9: 일반 | H9: 청소년 | I9: 아동 | J9: 소계
A10: 11월01(수) | B10: =SUM(F10+J10) -> 54 | C10: 1 | F10: =SUM(C10:E10) -> 1 | G10: 38 | H10: 5 | I10: 10 | J10: =SUM(G10:I10) -> 53
A11: 11월02(목) | B11: =SUM(F11+J11) -> 78 | C11: 2 | D11: 1 | F11: =SUM(C11:E11) -> 3 | G11: 55 | H11: 8 | I11: 12 | J11: =SUM(G11:I11) -> 75
A12: 11월03(금) | B12: =SUM(F12+J12) -> 58 | C12: 3 | D12: 1 | F12: =SUM(C12:E12) -> 4 | G12: 35 | H12: 10 | I12: 9 | J12: =SUM(G12:I12) -> 54
A13: 11월04(토) | B13: =SUM(F13+J13) -> 70 | C13: 2 | D13: 1 | F13: =SUM(C13:E13) -> 3 | G13: 44 | H13: 8 | I13: 15 | J13: =SUM(G13:I13) -> 67
A14: 11월05(일) | B14: =SUM(F14+J14) -> 39 | C14: 1 | F14: =SUM(C14:E14) -> 1 | G14: 25 | H14: 6 | I14: 7 | J14: =SUM(G14:I14) -> 38
A15: 11월07(화) | B15: =SUM(F15+J15) -> 50 | C15: 4 | D15: 1 | F15: =SUM(C15:E15) -> 5 | G15: 30 | H15: 6 | I15: 9 | J15: =SUM(G15:I15) -> 45
A16: 11월08(수) | B16: =SUM(F16+J16) -> 48 | C16: 4 | F16: =SUM(C16:E16) -> 4 | G16: 31 | H16: 5 | I16: 8 | J16: =SUM(G16:I16) -> 44
A17: 11월09(목) | B17: =SUM(F17+J17) -> 52 | C17: 5 | F17: =SUM(C17:E17) -> 5 | G17: 37 | H17: 4 | I17: 6 | J17: =SUM(G17:I17) -> 47
A18: 11월10((금) | B18: =SUM(F18+J18) -> 36 | F18: =SUM(C18:E18) -> 0 | G18: 28 | H18: 2 | I18: 6 | J18: =SUM(G18:I18) -> 36
A19: 11월11(토) | B19: =SUM(F19+J19) -> 58 | C19: 4 | F19: =SUM(C19:E19) -> 4 | G19: 32 | H19: 7 | I19: 15 | J19: =SUM(G19:I19) -> 54
A20: 11월12(일) | B20: =SUM(F20+J20) -> 29 | C20: 3 | F20: =SUM(C20:E20) -> 3 | G20: 13 | H20: 5 | I20: 8 | J20: =SUM(G20:I20) -> 26
A21: 11월14(화)) | B21: =SUM(F21+J21) -> 65 | C21: 5 | F21: =SUM(C21:E21) -> 5 | G21: 43 | H21: 7 | I21: 10 | J21: =SUM(G21:I21) -> 60
A22: 11월15(수) | B22: =SUM(F22+J22) -> 65 | C22: 1 | F22: =SUM(C22:E22) -> 1 | G22: 43 | H22: 9 | I22: 12 | J22: =SUM(G22:I22) -> 64
A23: 11월16(목) | B23: =SUM(F23+J23) -> 39 | F23: =SUM(C23:E23) -> 0 | G23: 22 | H23: 5 | I23: 12 | J23: =SUM(G23:I23) -> 39
A24: 11월17(금) | B24: =SUM(F24+J24) -> 42 | F24: =SUM(C24:E24) -> 0 | G24: 20 | H24: 4 | I24: 18 | J24: =SUM(G24:I24) -> 42
A25: 11월18(토) | B25: =SUM(F25+J25) -> 59 | C25: 3 | D25: 1 | F25: =SUM(C25:E25) -> 4 | G25: 38 | H25: 8 | I25: 9 | J25: =SUM(G25:I25) -> 55
A26: 11월19(일) | B26: =SUM(F26+J26) -> 27 | C26: 1 | F26: =SUM(C26:E26) -> 1 | G26: 11 | H26: 7 | I26: 8 | J26: =SUM(G26:I26) -> 26
A27: 11월21(화) | B27: =SUM(F27+J27) -> 49 | F27: =SUM(C27:E27) -> 0 | G27: 35 | H27: 8 | I27: 6 | J27: =SUM(G27:I27) -> 49
A28: 11월22(수) | B28: =SUM(F28+J28) -> 54 | C28: 4 | F28: =SUM(C28:E28) -> 4 | G28: 36 | H28: 6 | I28: 8 | J28: =SUM(G28:I28) -> 50
A29: 11월23(목) | B29: =SUM(F29+J29) -> 95 | C29: 2 | F29: =SUM(C29:E29) -> 2 | G29: 56 | H29: 12 | I29: 25 | J29: =SUM(G29:I29) -> 93
A30: 11월24(금) | B30: =SUM(F30+J30) -> 57 | C30: 2 | F30: =SUM(C30:E30) -> 2 | G30: 32 | H30: 8 | I30: 15 | J30: =SUM(G30:I30) -> 55
A31: 11월25(토) | B31: =SUM(F31+J31) -> 69 | C31: 1 | F31: =SUM(C31:E31) -> 1 | G31: 33 | H31: 15 | I31: 20 | J31: =SUM(G31:I31) -> 68
A32: 11월26(일) | B32: =SUM(F32+J32) -> 14 | C32: 3 | F32: =SUM(C32:E32) -> 3 | G32: 6 | H32: 2 | I32: 3 | J32: =SUM(G32:I32) -> 11
A33: 11월28(화) | B33: =SUM(F33+J33) -> 62 | C33: 4 | F33: =SUM(C33:E33) -> 4 | G33: 38 | H33: 9 | I33: 11 | J33: =SUM(G33:I33) -> 58
A34: 11월29(수) | B34: =SUM(F34+J34) -> 57 | C34: 2 | F34: =SUM(C34:E34) -> 2 | G34: 38 | H34: 7 | I34: 10 | J34: =SUM(G34:I34) -> 55
A35: 11월30(목) | B35: =SUM(F35+J35) -> 64 | C35: 1 | F35: =SUM(C35:E35) -> 1 | G35: 36 | H35: 12 | I35: 15 | J35: =SUM(G35:I35) -> 63
A36: 합 계 | B36: =SUM(B10:B35) -> 1390 | C36: =SUM(C10:C35) -> 58 | D36: =SUM(D10:D35) -> 5 | E36: =SUM(E10:E35) -> 0 | F36: =SUM(C36:E36) -> 63 | G36: =SUM(G10:G35) -> 855 | H36: =SUM(H10:H35) -> 185 | I36: =SUM(I10:I35) -> 287 | J36: =SUM(J10:J35) -> 1327
A37: ▣ 월별 이용자 현황
A38: 월별 | B38: 총계 (명) | C38: 관외 대출자 | G38: 열람자 | K38: 비고
C39: 일반 | D39: 청소년 | E39: 아동 | F39: 소계 | G39: 일반 | H39: 청소년 | I39: 아동 | J39: 소계
A40: 1월 | B40: =SUM(F40+J40) -> 1340 | C40: 60 | D40: 4 | E40: 0 | F40: =SUM(C40:E40) -> 64 | G40: 836 | I40: 440 | J40: =SUM(G40:I40) -> 1276
A41: 2월 | B41: =SUM(F41+J41) -> 1204 | C41: 63 | D41: 17 | E41: 0 | F41: =SUM(C41:E41) -> 80 | G41: 756 | I41: 368 | J41: =SUM(G41:I41) -> 1124
...

Sheet 보드게임실
A1: 이룸청소년도서관 보드게임실 통계보고
A2: 2023. 11. 1 ~ 11. 30
A5: 주 요 업무내용 | B5: ○ 보드게임실 관리 운영
A6: ▣ 일별 이용자 현황
A7: 일자별 | B7: 총 계 | C7: 예약자 | G7: 현장이용자 | K7: 비고
C8: 일 반 | D8: 청소년 | E8: 아동 | F8: 소계 | G8: 일반 | H8: 청소년 | I8: 아동 | J8: 소계
A9: 11월01(수) | B9: =SUM(F9+J9) -> 2 | I9: 2 | J9: =SUM(G9:I9) -> 2
A10: 11월02(목) | B10: =SUM(F10+J10) -> 0 | J10: =SUM(G10:I10) -> 0
A11: 11월03(금) | B11: =SUM(F11+J11) -> 0 | J11: =SUM(G11:I11) -> 0
A12: 11월04(토) | B12: =SUM(F12+J12) -> 11 | G12: 4 | I12: 7 | J12: =SUM(G12:I12) -> 11
A13: 11월05(일) | B13: =SUM(F13+J13) -> 0 | J13: =SUM(G13:I13) -> 0
A14: 11월07(화) | B14: =SUM(F14+J14) -> 2 | G14: 1 | I14: 1 | J14: =SUM(G14:I14) -> 2
A15: 11월08(수) | B15: =SUM(F15+J15) -> 2 | I15: 2 | J15: =SUM(G15:I15) -> 2
A16: 11월09(목) | B16: =SUM(F16+J16) -> 0 | J16: =SUM(G16:I16) -> 0
A17: 11월10(금) | B17: =SUM(F17+J17) -> 2 | H17: 2 | J17: =SUM(G17:I17) -> 2
A18: 11월11(토) | B18: =SUM(F18+J18) -> 10 | G18: 5 | H18: 1 | I18: 4 | J18: =SUM(G18:I18) -> 10
A19: 11월12(일) | B19: =SUM(F19+J19) -> 4 | G19: 2 | I19: 2 | J19: =SUM(G19:I19) -> 4
A20: 11월14(화) | B20: =SUM(F20+J20) -> 0 | J20: =SUM(G20:I20) -> 0
A21: 11월15(수) | B21: =SUM(F21+J21) -> 2 | H21: 2 | J21: =SUM(G21:I21) -> 2
A22: 11월16(목) | B22: =SUM(F22+J22) -> 0 | J22: =SUM(G22:I22) -> 0
A23: 11월17(금) | B23: =SUM(F23+J23) -> 4 | G23: 2 | I23: 2 | J23: =SUM(G23:I23) -> 4
A24: 11월18(토) | B24: =SUM(F24+J24) -> 4 | G24: 2 | I24: 2 | J24: =SUM(G24:I24) -> 4
A25: 11월19(일) | B25: =SUM(F25+J25) -> 7 | G25: 1 | H25: 4 | I25: 2 | J25: =SUM(G25:I25) -> 7
A26: 11월21(화) | B26: =SUM(F26+J26) -> 0 | J26: =SUM(G26:I26) -> 0
A27: 11월22(수) | B27: =SUM(F27+J27) -> 3 | G27: 1 | I27: 2 | J27: =SUM(G27:I27) -> 3
A28: 11월23(목) | B28: =SUM(F28+J28) -> 4 | I28: 4 | J28: =SUM(G28:I28) -> 4
A29: 11월24(금) | B29: =SUM(F29+J29) -> 3 | G29: 1 | I29: 2 | J29: =SUM(G29:I29) -> 3
A30: 11월25(토) | B30: =SUM(F30+J30) -> 24 | G30: 7 | H30: 7 | I30: 10 | J30: =SUM(G30:I30) -> 24
A31: 11월26(일) | B31: =SUM(F31+J31) -> 0 | J31: =SUM(G31:I31) -> 0
A32: 11월28(화) | B32: =SUM(F32+J32) -> 0 | J32: =SUM(G32:I32) -> 0
A33: 11월29(수) | B33: =SUM(F33+J33) -> 3 | G33: 1 | I33: 2 | J33: =SUM(G33:I33) -> 3
A34: 11월30(목) | B34: =SUM(F34+J34) -> 7 | G34: 3 | I34: 4 | J34: =SUM(G34:I34) -> 7
A35: 월 계 | B35: =SUM(F35+J35) -> 94 | C35: =SUM(C9:C34) -> 0 | D35: =SUM(D9:D34) -> 0 | E35: =SUM(E9:E34) -> 0 | F35: =SUM(F9:F34) -> 0 | G35: =SUM(G9:G34) -> 30 | H35: =SUM(H9:H34) -> 16 | I35: =SUM(I9:I34) -> 48 | J35: =SUM(J9:J34) -> 94
A36: 월별 | B36: 총계(명) | C36: 보드게임실 이용 현황 | G36: 비고
C37: 예약자 | E37: 현장이용자
A38: 1월 | B38: =SUM(C38:E38) -> 73 | C38: 17 | E38: 56
A39: 2월 | B39: =SUM(C39:E39) -> 79 | C39: 18 | E39: 61
A40: 3월 | B40: =SUM(C40:E40) -> 105 | C40: 15 | E40: 90
A41: 4월 | B41: =SUM(C41:E41) -> 91 | C41: 7 | E41: 84
A42: 5월 | B42: =SUM(C42:E42) -> 92 | C42: 0 | E42: 92
...
