Workbook

Sheet 총계
A1: 이룸청소년도서관 이용통계
A2: 2024. 2. 1 ~2. 29.
A4: ▣ 이용자 통계
I5: [단위 : 명]
A6: 일자별 | B6: 총계 | C6: 자료실 | F6: 보드게임실 | J6: 스마트도서관
C7: 대출자 | D7: 열람자 | E7: 소계 | F7: 예약자 | G7: 현장이용자 | I7: 소계 | J7: 대출자
A8: 2월 통계 | B8: =SUM(E8+I8+J8) -> 1124 | C8: =SUM(일반자료실!G37) -> 104 | D8: =SUM(일반자료실!K37) -> 791 | E8: =SUM(C8:D8) -> 895 | F8: =SUM(보드게임실!F31) -> 35 | G8: =SUM(보드게임실!J31) -> 191 | I8: =SUM(F8:H8) -> 226 | J8: 3
A9: 2024년계 | B9: =SUM(E9+I9+J9) -> 2177 | C9: =SUM(일반자료실!G48) -> 185 | D9: =SUM(일반자료실!K48) -> 1608 | E9: =SUM(일반자료실!B48) -> 1793 | F9: =SUM(보드게임실!C46) -> 56 | G9: =SUM(보드게임실!E46) -> 317 | I9: =SUM(보드게임실!B46) -> 373 | J9: =SUM(일반자료실!F48) -> 11
A10: ▣ 회원가입 통계
I11: [단위 : 명]
A12: 일자별 | B12: 총계 | C12: 일반 | E12: 청소년 | G12: 아동 | I12: 비고
A13: 2월 합계 | B13: =SUM(C13:G13) -> 6 | C13: 4 | E13: - | G13: 2 | I13: ※반입회원 포함
A14: 2024년계 | B14: =SUM(C14:H14) -> 15 | C14: 11 | E14: 1 | G14: 3
A16: ▣ 대출자료통계(전체)
I17: [단위 : 권]
A18: 일자별 | B18: 총계 | C18: 자료실 | H18: 스마트도서관 | I18: 비고
C19: 일반 | E19: 청소년 | G19: 아동 | H19: 일반
A20: 2월 합계 | B20: =SUM(C20:H20) -> 324 | C20: =SUM(일반자료실!C54) -> 257 | E20: =SUM(일반자료실!D54) -> 27 | G20: =SUM(일반자료실!E54) -> 37 | H20: 3
A21: 2024년계 | B21: =SUM(일반자료실!B65) -> 491 | C21: =SUM(일반자료실!C65) -> 140 | E21: =SUM(일반자료실!D65) -> 47 | G21: =SUM(일반자료실!E65) -> 58 | H21: =SUM(일반자료실!F48) -> 11

Sheet 일반자료실
A1: 이룸청소년도서관 자료실 통계보고
A2: 2024. 2. 1 ~2. 29.
A4: 주 요 업무내용 | B4: ○ 도서 대출/반납, 통합회원증 발급
B5: ○ 정기간행물 등록 및 관리
B6: ○ 보드게임실 관리 / 프로그램 운영
A7: ▣ 일별 이용자 현황
A8: 일자별 | B8: 총 계 | C8: 관외 대출자 | H8: 열람자 | L8: 비고
C9: 일 반 | D9: 청소년 | E9: 아동 | F9: 스마트도서관 | G9: 소계 | H9: 일반 | I9: 청소년 | J9: 아동 | K9: 소계
A10: 2/1(목) | B10: =SUM(G10,K10) -> 36 | C10: 2 | D10: 0 | E10: 0 | F10: 0 | G10: =SUM(C10:F10) -> 2 | H10: 19 | I10: 10 | J10: 5 | K10: =SUM(H10:J10) -> 34
A11: 2/2(금) | B11: =SUM(G11,K11) -> 24 | C11: 0 | D11: 0 | E11: 0 | F11: 0 | G11: =SUM(C11:F11) -> 0 | H11: 13 | I11: 8 | J11: 3 | K11: =SUM(H11:J11) -> 24
A12: 2/3(토) | B12: =SUM(G12,K12) -> 46 | C12: 4 | D12: 0 | E12: 0 | F12: 0 | G12: =SUM(C12:F12) -> 4 | H12: 21 | I12: 13 | J12: 8 | K12: =SUM(H12:J12) -> 42
A13: 2/4(일) | B13: =SUM(G13,K13) -> 22 | C13: 1 | D13: 0 | E13: 1 | F13: 0 | G13: =SUM(C13:F13) -> 2 | H13: 12 | I13: 6 | J13: 2 | K13: =SUM(H13:J13) -> 20
A14: 2/6(화) | B14: =SUM(G14,K14) -> 40 | C14: 5 | D14: 0 | E14: 0 | F14: 0 | G14: =SUM(C14:F14) -> 5 | H14: 29 | I14: 3 | J14: 3 | K14: =SUM(H14:J14) -> 35
A15: 2/7(수) | B15: =SUM(G15,K15) -> 68 | C15: 9 | D15: 0 | E15: 2 | F15: 0 | G15: =SUM(C15:F15) -> 11 | H15: 45 | I15: 2 | J15: 10 | K15: =SUM(H15:J15) -> 57
A16: 2/8(목) | B16: =SUM(G16,K16) -> 38 | C16: 3 | D16: 0 | E16: 0 | F16: 0 | G16: =SUM(C16:F16) -> 3 | H16: 27 | I16: 6 | J16: 2 | K16: =SUM(H16:J16) -> 35
A17: 2/13(화) | B17: =SUM(G17,K17) -> 32 | C17: 1 | D17: 0 | E17: 1 | F17: 0 | G17: =SUM(C17:F17) -> 2 | H17: 22 | I17: 4 | J17: 4 | K17: =SUM(H17:J17) -> 30
A18: 2/14(수) | B18: =SUM(G18,K18) -> 79 | C18: 11 | D18: 2 | E18: 1 | F18: 0 | G18: =SUM(C18:F18) -> 14 | H18: 38 | I18: 12 | J18: 15 | K18: =SUM(H18:J18) -> 65
A19: 2/15(목) | B19: =SUM(G19,K19) -> 32 | C19: 2 | D19: 0 | E19: 0 | F19: 0 | G19: =SUM(C19:F19) -> 2 | H19: 24 | I19: 4 | J19: 2 | K19: =SUM(H19:J19) -> 30
A20: 2/16(금) | B20: =SUM(G20,K20) -> 56 | C20: 4 | D20: 1 | E20: 0 | F20: 1 | G20: =SUM(C20:F20) -> 6 | H20: 38 | I20: 2 | J20: 10 | K20: =SUM(H20:J20) -> 50
A21: 2/17(토) | B21: 45 | C21: 3 | D21: 0 | E21: 2 | F21: 0 | G21: =SUM(C21:F21) -> 5 | H21: 26 | I21: 4 | J21: 10 | K21: =SUM(H21:J21) -> 40
A22: 2/18(일) | B22: =SUM(G22,K22) -> 23 | C22: 1 | D22: 1 | E22: 0 | F22: 0 | G22: =SUM(C22:F22) -> 2 | H22: 18 | I22: 1 | J22: 2 | K22: =SUM(H22:J22) -> 21
A23: 2/20(화) | B23: =SUM(G23,K23) -> 39 | C23: 3 | D23: 0 | E23: 1 | F23: 0 | G23: =SUM(C23:F23) -> 4 | H23: 21 | I23: 2 | J23: 12 | K23: =SUM(H23:J23) -> 35
A24: 2/21(수) | B24: =SUM(G24,K24) -> 62 | C24: 4 | D24: 1 | E24: 1 | F24: 0 | G24: =SUM(C24:F24) -> 6 | H24: 40 | I24: 4 | J24: 12 | K24: =SUM(H24:J24) -> 56
A25: 2/22(목) | B25: =SUM(G25,K25) -> 30 | C25: 2 | D25: 1 | E25: 0 | F25: 0 | G25: =SUM(C25:F25) -> 3 | H25: 18 | I25: 7 | J25: 2 | K25: =SUM(H25:J25) -> 27
A26: 2/23(금) | B26: =SUM(G26,K26) -> 35 | C26: 5 | D26: 0 | E26: 0 | F26: 0 | G26: =SUM(C26:F26) -> 5 | H26: 20 | I26: 4 | J26: 6 | K26: =SUM(H26:J26) -> 30
A27: 2/24(토) | B27: =SUM(G27,K27) -> 38 | C27: 5 | D27: 1 | E27: 2 | F27: 1 | G27: =SUM(C27:F27) -> 9 | H27: 17 | I27: 2 | J27: 10 | K27: =SUM(H27:J27) -> 29
A28: 2/25(일) | B28: =SUM(G28,K28) -> 18 | C28: 3 | D28: 0 | E28: 0 | G28: =SUM(C28:F28) -> 3 | H28: 7 | I28: 3 | J28: 5 | K28: =SUM(H28:J28) -> 15
A29: 2/27(화) | B29: =SUM(G29,K29) -> 47 | C29: 6 | D29: 0 | E29: 1 | G29: =SUM(C29:F29) -> 7 | H29: 28 | I29: 4 | J29: 8 | K29: =SUM(H29:J29) -> 40
A30: 2/28(수) | B30: =SUM(G30,K30) -> 54 | C30: 6 | D30: 1 | E30: 0 | F30: 1 | G30: =SUM(C30:F30) -> 8 | H30: 32 | I30: 4 | J30: 10 | K30: =SUM(H30:J30) -> 46
A31: 2/29(목) | B31: =SUM(G31,K31) -> 31 | C31: 1 | D31: 0 | E31: 0 | G31: =SUM(C31:F31) -> 1 | H31: 21 | I31: 6 | J31: 3 | K31: =SUM(H31:J31) -> 30
A32: 합 계 | B32: =SUM(B10:B31) -> 895 | C32: =SUM(C10:C31) -> 81 | D32: =SUM(D10:D31) -> 8 | E32: =SUM(E10:E31) -> 12 | F32: =SUM(F10:F31) -> 3 | G32: =SUM(G10:G31) -> 104 | H32: =SUM(H10:H31) -> 536 | I32: =SUM(I10:I31) -> 111 | J32: =SUM(J10:J31) -> 144 | K32: =SUM(H32:J32) -> 791
A33: ▣ 월별 이용자 현황
A34: 월별 | B34: 총계 (명) | C34: 관외 대출자 | H34: 열람자 | L34: 비고
C35: 일반 | D35: 청소년 | E35: 아동 | F35: 스마트도서관 | G35: 소계 | H35: 일반 | I35: 청소년 | J35: 아동 | K35: 소계
A36: 1월 | B36: =SUM(G36+K36) -> 898 | C36: 58 | D36: 8 | E36: 7 | F36: 8 | G36: =SUM(C36:F36) -> 81 | H36: 479 | I36: 214 | J36: 124 | K36: =SUM(H36:J36) -> 817 | L36: ※스마트도서관 포함
A37: 2월 | B37: =SUM(G37,K37) -> 895 | C37: =SUM(C32) -> 81 | D37: =SUM(D32) -> 8 | E37: =SUM(E32) -> 12 | F37: 3 | G37: =SUM(C37:F37) -> 104 | H37: =SUM(H32) -> 536 | I37: =SUM(I32) -> 111 | J37: =SUM(J32) -> 144 | K37: =SUM(H37:J37) -> 791
A38: 3월
A39: 4월
A40: 5월
A41: 6월
A42: 7월
A43: 8월
A44: 9월
A45: 10월
A46: 11월
A47: 12월
A48: 2024년 총계 | B48: =SUM(B36:B47) -> 1793 | C48: =SUM(C36:C47) -> 139 | D48: =SUM(D36:D47) -> 16 | E48: =SUM(E36:E47) -> 19 | F48: =SUM(F36:F47) -> 11 | G48: =SUM(G36:G47) -> 185 | H48: =SUM(H36:H47) -> 1015 | I48: =SUM(I36:I47) -> 325 | ... K48: =SUM(K36:K47) -> 1608
A49: 2023년 총계 | B49: 17248 | C49: 739 | D49: 105 | E49: 15 | G49: 859 | H49: 8107 | I49: 2014 | J49: 6300 | K49: 16389
A50: ▣ 월별 대출자료 현황(일반자료실)
A51: 월별 | B51: 총계(권) | C51: 대출자료 | G51: 비고
C52: 일반 | D52: 청소년 | E52: 아동 | F52: 스마트도서관
A53: 1월 | B53: =SUM(C53:E53) -> 167 | C53: 126 | D53: 20 | E53: 21 | F53: 14 | G53: ※스마트도서관 포함
A54: 2월 | B54: =SUM(C54:G54) -> 324 | C54: 257 | D54: 27 | E54: 37 | F54: 3
A55: 3월
A56: 4월
A57: 5월
A58: 6월
A59: 7월
A60: 8월
A61: 9월
A62: 10월
A63: 11월
A64: 12월
A65: 2024년 총계 | B65: =SUM(B53:B64) -> 491 | C65: 140 | D65: =SUM(D53:D64) -> 47 | E65: =SUM(E53:E64) -> 58 | F65: =SUM(F53:F64) -> 17
A66: 2023년 총계 | B66: 2195 | C66: 1907 | D66: 169 | E66: 119

Sheet 보드게임실
A1: 이룸청소년도서관 보드게임실 통계보고
A2: 2024. 2. 1 ~2. 29.
A5: 주 요 업무내용 | B5: ○ 보드게임실 관리 운영
A6: ▣ 일별 이용자 현황
A7: 일자별 | B7: 총 계 | C7: 예약자 | G7: 현장이용자 | K7: 비고
C8: 일 반 | D8: 청소년 | E8: 아동 | F8: 소계 | G8: 일반 | H8: 청소년 | I8: 아동 | J8: 소계
A9: 2/1(목) | B9: =SUM(F9+J9) -> 0 | C9: 0 | D9: 0 | E9: 0 | F9: =SUM(C9:E9) -> 0 | G9: 0 | H9: 0 | I9: 0 | J9: =SUM(G9:I9) -> 0
A10: 2/2(금) | B10: =SUM(F10+J10) -> 4 | C10: 0 | D10: 0 | E10: 0 | F10: =SUM(C10:E10) -> 0 | G10: 3 | H10: 0 | I10: 1 | J10: =SUM(G10:I10) -> 4
A11: 2/3(토) | B11: =SUM(F11+J11) -> 25 | C11: 2 | D11: 0 | E11: 2 | F11: =SUM(C11:E11) -> 4 | G11: 8 | H11: 3 | I11: 10 | J11: =SUM(G11:I11) -> 21
A12: 2/4(일) | B12: 11 | C12: 0 | D12: 0 | E12: 0 | F12: =SUM(C12:E12) -> 0 | G12: 3 | H12: 6 | I12: 2 | J12: =SUM(G12:I12) -> 11
A13: 2/6(화) | B13: =SUM(F13+J13) -> 2 | C13: 0 | D13: 0 | E13: 0 | F13: =SUM(C13:E13) -> 0 | G13: 0 | H13: 2 | I13: 0 | J13: =SUM(G13:I13) -> 2
A14: 2/7(수) | B14: =SUM(F14+J14) -> 16 | C14: 4 | D14: 0 | E14: 0 | F14: =SUM(C14:E14) -> 4 | G14: 4 | H14: 0 | I14: 8 | J14: =SUM(G14:I14) -> 12
A15: 2/8(목) | B15: =SUM(F15+J15) -> 2 | C15: 0 | D15: 0 | E15: 0 | F15: =SUM(C15:E15) -> 0 | G15: 0 | H15: 2 | I15: 0 | J15: =SUM(G15:I15) -> 2
A16: 2/13(화) | B16: =SUM(F16+J16) -> 2 | C16: 0 | D16: 0 | E16: 2 | F16: =SUM(C16:E16) -> 2 | G16: 0 | H16: 0 | I16: 0 | J16: 0
A17: 2/14(수) | B17: =SUM(F17+J17) -> 27 | C17: 1 | D17: 2 | E17: 3 | F17: =SUM(C17:E17) -> 6 | G17: 6 | H17: 7 | I17: 8 | J17: =SUM(G17:I17) -> 21
A18: 2/15(목) | B18: =SUM(F18+J18) -> 10 | C18: 1 | D18: 0 | E18: 2 | F18: =SUM(C18:E18) -> 3 | G18: 0 | H18: 7 | I18: 0 | J18: =SUM(G18:I18) -> 7
A19: 2/16(금) | B19: =SUM(F19+J19) -> 6 | C19: 0 | D19: 0 | E19: 0 | F19: =SUM(C19:E19) -> 0 | G19: 1 | H19: 0 | I19: 5 | J19: =SUM(G19:I19) -> 6
A20: 2/17(토) | B20: =SUM(F20+J20) -> 21 | C20: 0 | D20: 0 | E20: 0 | F20: =SUM(C20:E20) -> 0 | G20: 7 | H20: 2 | I20: 12 | J20: =SUM(G20:I20) -> 21
A21: 2/18(일) | B21: =SUM(F21+J21) -> 3 | C21: 0 | D21: 0 | E21: 0 | F21: =SUM(C21:E21) -> 0 | G21: 2 | H21: 0 | I21: 1 | J21: =SUM(G21:I21) -> 3
A22: 2/20(화) | B22: =SUM(F22+J22) -> 12 | C22: 1 | D22: 0 | E22: 2 | F22: =SUM(C22:E22) -> 3 | G22: 2 | H22: 0 | I22: 7 | J22: =SUM(G22:I22) -> 9
A23: 2/21(수) | B23: =SUM(F23+J23) -> 23 | C23: 6 | D23: 0 | E23: 2 | F23: =SUM(C23:E23) -> 8 | G23: 3 | H23: 0 | I23: 12 | J23: =SUM(G23:I23) -> 15
A24: 2/22(목) | B24: =SUM(F24+J24) -> 7 | C24: 0 | D24: 0 | E24: 0 | F24: =SUM(C24:E24) -> 0 | G24: 3 | H24: 4 | I24: 0 | J24: =SUM(G24:I24) -> 7
A25: 2/23(금) | B25: =SUM(F25+J25) -> 11 | C25: 0 | D25: 0 | E25: 0 | F25: =SUM(C25:E25) -> 0 | G25: 3 | H25: 2 | I25: 6 | J25: =SUM(G25:I25) -> 11
A26: 2/24(토) | B26: =SUM(F26+J26) -> 10 | C26: 0 | D26: 0 | E26: 0 | F26: =SUM(C26:E26) -> 0 | G26: 3 | H26: 0 | I26: 7 | J26: =SUM(G26:I26) -> 10
A27: 2/25(일) | B27: =SUM(F27+J27) -> 9 | C27: 0 | D27: 0 | E27: 0 | F27: =SUM(C27:E27) -> 0 | G27: 2 | H27: 0 | I27: 7 | J27: =SUM(G27:I27) -> 9
A28: 2/27(화) | B28: =SUM(F28+J28) -> 15 | C28: 2 | D28: 0 | E28: 3 | F28: =SUM(C28:E28) -> 5 | G28: 4 | H28: 0 | I28: 6 | J28: =SUM(G28:I28) -> 10
... A30: 2/29(목) | B30: =SUM(F30+J30) -> 4 | C30: 0 | D30: 0 | E30: 0 | F30: =SUM(C30:E30) -> 0 | G30: 2 | H30: 0 | I30: 2 | J30: =SUM(G30:I30) -> 4
A31: 월 계 | B31: =SUM(F31+J31) -> 226 | C31: =SUM(C9:C30) -> 17 | D31: =SUM(D9:D30) -> 2 | E31: =SUM(E9:E30) -> 16 | F31: =SUM(C31:E31) -> 35 | G31: =SUM(G9:G30) -> 57 | H31: =SUM(H9:H30) -> 37 | I31: =SUM(I9:I30) -> 97 | J31: =SUM(G31:I31) -> 191
A32: 월별 | B32: 총계(명) | C32: 보드게임실 이용 현황 | G32: 비고
C33: 예약자 | E33: 현장이용자
A34: 1월 | B34: 147 | C34: 21 | E34: 126
A35: 2월 | B35: =SUM(B31) -> 226 | C35: =SUM(F31) -> 35 | E35: =SUM(J31) -> 191
A36: 3월
A37: 4월
A38: 5월
A39: 6월
A40: 7월
A41: 8월
A42: 9월
A43: 10월
A44: 11월
A45: 12월
A46: 2024년 총계 | B46: =SUM(B34:B45) -> 373 | C46: =SUM(C34:D45) -> 56 | E46: =SUM(E34:F45) -> 317
A47: 2023년 총계 | B47: 1467 | C47: 156 | E47: 1311

Sheet 야간_개방
A1: 이룸청소년도서관 연장개방 통계보고
A2: 2024. 2. 1 ~2. 29.
A4: 주 요 업무내용 | B4: ○ 도서 대출/반납, 통합회원증 발급
B5: ○ 정기간행물 등록 및 관리
B6: ○ 자료실, 보드게임실 야간연장개방(18:00~21:00)
A7: ▣ 월별 이용자 현황
A8: 월별 | B8: 대출권수 | C8: 이용자수 | D8: 비 고 | E8: 월별 | F8: 대출권수 | G8: 이용자수 | H8: 비 고
A9: 1월 | B9: - | C9: 117 | E9: 7월
A10: 2월 | B10: 15 | C10: 247 | E10: 8월
A11: 3월 | E11: 9월
A12: 4월 | E12: 10월
A13: 5월 | E13: 11월
A14: 6월 | E14: 12월
A15: 2024년 총계 | F15: =SUM(B9:B14) -> 15 | G15: =C9+C10+C11+C12+C13+C14+G9+G10+G11+G12+G13+G14 -> 364
